BEGIN:VCALENDAR
PRODID:-//Det Danske Spejderkorps//NONSGML Gruppeweb//EN
VERSION:2.0
CALSCALE:GREGORIAN
X-PUBLISHED-TTL:PT1H
X-WR-CALNAME:Thorning Gruppe
METHOD:PUBLISH
BEGIN:VEVENT
UID:gruppeweb.dk:6306:event:248
DTSTAMP:20260425T172041Z
LAST-MODIFIED:20250514T110200Z
SUMMARY:Divisionsturnering
DESCRIPTION: \n \n\nKom og deltag i spejdernes forsøg på at genoplive V
 alhal – og de mange  \nguder\, Jætter\, Aser\, Valkyrier og mærkelige 
 skabninger der har til huse  \nder.Temaet for dette års turnering er den 
 Nordiske Mytologi. \n\n \n\nSå er det tid for at invitere spejdere og l
 edere i Steen Blicher Divisionen  \ntil årets Divisionsturnering – hvor
  de otte spejdergrupper i Divisionen  \nmødes for at være sammen og konk
 urrere på venskabelig vis i mange  \nspændende og guddommelige konkurr
 encer.\n\n \n\nÅrets Divisionsturnering foregår På Poulholm ved Waig
 unga Stammen i  \nViborg den 16. – 18. maj.\n\n \n\nI år har et helt 
 fantastisk planlægningshold\, hvor næsten alle grupperne  \ner repræsen
 terede\, lagt sig i selen for at lave nogle unikke aktiviteter for  \nalle
  spejdere og ledere.\n\n \n\nPraktiske oplysninger\n\nAnkomst og etableri
 ng af lejren fredag den 16. maj fra klokken 1700. \n\nKlokken 1800 må ju
 nior og trop begynde den første pionering opgave. \n\nOfficiel velkom
 st er klokken 1900. Husk madpakke til fredag aften.\n\nAfgang søndag den 
 18. maj klokken 1200. Præmieoverrækkelse er fra  \nklokken 1100. For
 ældre er meget velkomne til præmieoverrækkelserne.\n\nAdressen er\; Pou
 lholm\, Gammel Skivevej 99\, 8800 Viborg.\n\n
URL:https://www.thorningspejderne.dk/begivenhed/divisionsturnering
DTSTART:20250516T150000Z
DTEND:20250518T100000Z
LOCATION:Poulholm\, Gl. Skivevej 99\, 8800 Viborg
END:VEVENT
BEGIN:VEVENT
UID:gruppeweb.dk:6306:event:247
DTSTAMP:20260425T172041Z
LAST-MODIFIED:20250327T111353Z
SUMMARY:Familiespejd Divisionsturnering
DESCRIPTION: \n \n\nKom og deltag i spejdernes forsøg på at genoplive V
 alhal – og de mange  \nguder\, Jætter\, Aser\, Valkyrier og mærkelige 
 skabninger der har til huse  \nder.Temaet for dette års turnering er den 
 Nordiske Mytologi. \n\n \n\nSå er det tid for at invitere spejdere og l
 edere i Steen Blicher Divisionen  \ntil årets Divisionsturnering – hvor
  de otte spejdergrupper i Divisionen  \nmødes for at være sammen og konk
 urrere på venskabelig vis i mange  \nspændende og guddommelige konkurr
 encer.\n\n \n\nÅrets Divisionsturnering foregår På Poulholm ved Waig
 unga Stammen i  \nViborg den 16. – 18. maj.\n\n \n\nI år har et helt 
 fantastisk planlægningshold\, hvor næsten alle grupperne  \ner repræsen
 terede\, lagt sig i selen for at lave nogle unikke aktiviteter for  \nalle
  spejdere og ledere.\n\n \n\nPraktiske oplysninger\n\nAnkomst og etableri
 ng af lejren fredag den 16. maj fra klokken 1700. \n\nKlokken 1800 må ju
 nior og trop begynde den første pionering opgave. \n\nOfficiel velkom
 st er klokken 1900. Husk madpakke til fredag aften.\n\nAfgang søndag den 
 18. maj klokken 1200. Præmieoverrækkelse er fra  \nklokken 1100. For
 ældre er meget velkomne til præmieoverrækkelserne.\n\nAdressen er\; Pou
 lholm\, Gammel Skivevej 99\, 8800 Viborg.\n\n
URL:https://www.thorningspejderne.dk/begivenhed/familiespejd-divisionsturne
 ring
DTSTART:20250517T064000Z
DTEND:20250518T100000Z
LOCATION:Poulholm\, Gl. Skivevej 99\, 8800 Viborg
END:VEVENT
BEGIN:VEVENT
UID:gruppeweb.dk:6306:event:249
DTSTAMP:20260425T172041Z
LAST-MODIFIED:20250520T065459Z
SUMMARY:Kollektivet
DESCRIPTION:Spejderne har valgt at prøve kræfter med deres\, nok hidtil\,
  største  \nudfordring - Kollektiv mærket. Dette er et mærke\, hvor spe
 jderne skal være  \n100% selvstyrende i en hel hverdags uge. Vi har disku
 teret mærket meget og  \ner kommet frem til følgende:\n\nOrdensregler:\n
 \n * Alt skole og fritidsaktiviteter skal passes\, nøjagtigt som en almin
 delig\n   hverdagsuge.\n   \n * Der skal aftales en detaljeret plan for\, 
 hvem der gør hvad\, og hvornår.\n   \n * Tropsledere må tjekke ind dagl
 igt og skal hjælp med at løse eventuelle\n   uoverensstemmelser.\n   \n 
 * Forældre er ikke tilladt på spejdergrunden (leder forældre er undtage
 t\n   under deres almindelige virke).\n   \n * Forældre må kun assistere
  spejderen med kørsel til fritidsaktiviteter.\n   \n * Kun 2. Års spejde
 re og ældre kan deltage\n   \n\n\nHvad skal de have med:\n\nAlt hvad de h
 ar brug for\, for at kunne være hjemmefra i en uge. Jeg vil  \nkraftigt o
 pfordre både forældre og spejdere til at modstå fristelsen til  \nat he
 nte og bringe ting hjemmefra. Det her er spejderens eventyr. Som det  \nst
 år så velformuleret i vores spejderbog: Det er farligt at tage på  \nev
 entyr\, men det er også det\, der gør det spændende.\n\nHvor kan jeg l
 æse mere:  Du kan læse mere om mærket på:  \nhttps://dds.dk/maerke/ko
 llektivet\n\n\n
URL:https://www.thorningspejderne.dk/begivenhed/kollektivet
DTSTART:20250601T130000Z
DTEND:20250608T130000Z
LOCATION:Thorning Gruppe\, Møllevej 36\, Thorning\, 8620 Kjellerup
END:VEVENT
BEGIN:VEVENT
UID:gruppeweb.dk:6306:event:254
DTSTAMP:20260425T172041Z
LAST-MODIFIED:20250605T202857Z
SUMMARY:50/75 km hike
DESCRIPTION:Så er det den tid på året igen. Vi skal ud og gå!!.\n\nVi G
 ÅR kl 8:00 fra spejder hytten\, så kom i god tid.\n\nVi er officielt fæ
 rdig med at gå 50km kl 23 lørdag aften\, så der vil  \nvære mulighed f
 or at blive hentet omkring det tidspunkt\, eller før hvis der  \ngåes hu
 rtigt.\n\nTil dem der vil gå 75km slutter turen dog først søndag kl 12:
 00.\n\n\nDet er tilladt at have så mange snacks med som man selv kan bær
 e. \n\nhusk vand\, ekstra sokker\, eventuelt regntøj og en lille let tas
 ke at have  \ndet i.\n\n\nGår man død og kan ikke gå mere kan man blive
  hentet\, og hjælpe sin  \nspejderleder med forfalendende arbejde (Troels
  og Louise pakker hus ned\, så  \n"døde" spejdere vil blive brugt som ba
 rnepiger til de mange børn).\n\n\n
URL:https://www.thorningspejderne.dk/begivenhed/5075-km-hike
DTSTART:20250607T060000Z
DTEND:20250608T100000Z
LOCATION:Thorning Gruppe\, Møllevej 36\, Thorning\, 8620 Kjellerup
END:VEVENT
BEGIN:VEVENT
UID:gruppeweb.dk:6306:event:253
DTSTAMP:20260425T172041Z
LAST-MODIFIED:20250603T102349Z
SUMMARY:24 timer i sovepose
DESCRIPTION:\n
URL:https://www.thorningspejderne.dk/begivenhed/24-timer-i-sovepose-2
DTSTART:20250613T160000Z
DTEND:20250615T070000Z
LOCATION:Thorning Gruppe\, Møllevej 36\, Thorning\, 8620 Kjellerup
END:VEVENT
BEGIN:VEVENT
UID:gruppeweb.dk:6306:event:252
DTSTAMP:20260425T172041Z
LAST-MODIFIED:20250601T120931Z
SUMMARY:Mini Sheltertur
DESCRIPTION:HEJ\n\nSå skal vi på den sidste sheltertur og fællesspisning
  med forældre og  \nsøskende.\n\nVi glæder os til jer.\n\n
URL:https://www.thorningspejderne.dk/begivenhed/mini-sheltertur
DTSTART:20250621T080000Z
DTEND:20250622T080000Z
LOCATION:tursted\, Søren Kannes Vej 47\, 8620 Kjellerup
END:VEVENT
BEGIN:VEVENT
UID:gruppeweb.dk:6306:event:251
DTSTAMP:20260425T172041Z
LAST-MODIFIED:20250530T110623Z
SUMMARY:Mikro shelter overnatning
DESCRIPTION:Shelter overnatning\n\n\n \n\nVi skal\novernatte i shelter fra
  d. 21-22/6 25. Det er vores sommer overnatning ud af\nfire årstider\, ti
 l vores mini shelty mærke. (Husk at man skal deltage i\novernatning i all
 e fire årstider\, for at få mærket.)\n\n\nVores\novernatning skal foreg
 å fra lørdag d. 21/6 kl. 13.00 og til søndag d. 22/6  \nkl.\n9.30. Vi s
 kal sove i sheltere i Kongenshus Mindepark. Udover at sove i  \nshelter\,\
 nskal vi om lørdagen også tage 10 km mærket. Husk godt fodtøj.\n\n\nVi
 gtig info:\n\n\nSpejderne\nog deres oppakning skal afleveres på p-pladsen
  ved Grønhøj Garnlager\,  \nFallesgårdevej 8A\, 7470 Karup J.\nSpejdern
 e skal ikke bære deres oppakning\, den bliver transporteret til\nshelterp
 ladsen. Afhentning af spejderne søndag er ved shelterne i Kongenshus\nMin
 depark. Spørg hvis der er tvivl om\, hvor de ligger.\n\n\nDu skal have\ns
 pist frokost\, inden du kommer. Turen koster 80 kr.\n\n\nTilmelding\nsker 
 på vores hjemmeside\, www.thorningspejderne.dk\n\n\n \n\n\nSpejderhilsne
 r fra Mikrolederne.\n\n\n\n\n
URL:https://www.thorningspejderne.dk/begivenhed/mikro-shelter-overnatning-0
DTSTART:20250621T110000Z
DTEND:20250622T073000Z
LOCATION:Thorning Gruppe\, Møllevej 36\, Thorning\, 8620 Kjellerup
END:VEVENT
BEGIN:VEVENT
UID:gruppeweb.dk:6306:event:250
DTSTAMP:20260425T172041Z
LAST-MODIFIED:20250528T155658Z
SUMMARY:Sommerafslutning 2025
DESCRIPTION:I Inviteres hermed til Gruppens fælles sommerafslutning ved sp
 ejderhytten\n\n*Tirsdag d. 24 juni kl. 17.00-19.00*\n\nDet er for hele fam
 ilien og dem I ellers gerne vil have med\n\n\nVi tænder op i grillen og l
 aver bål\, hvor I kan stege jeres mad på \n\n- I medbringer jeres eget 
 mad\, drikkelse og service\n\n\nDer vil være fælles lege og hygge hele a
 ften. \n\n\nVi glæder os meget til at se jer \n\nHilsen alle lederne\n\
 n
URL:https://www.thorningspejderne.dk/begivenhed/sommerafslutning-2025
DTSTART:20250624T150000Z
DTEND:20250624T170000Z
LOCATION:Thorning Gruppe\, Møllevej 36\, Thorning\, 8620 Kjellerup
END:VEVENT
BEGIN:VEVENT
UID:gruppeweb.dk:6306:event:243
DTSTAMP:20260425T172041Z
LAST-MODIFIED:20250603T160509Z
SUMMARY:Sommerlejr mikro 1.rate
DESCRIPTION:Så er første tilmelding til sommerlejr åbnet\, vi forventer 
 en samlet pris  \npå lejren for mikro spejdere på ca 900kr.\n\nDette er 
 første rate\, anden og sidste rate vil komme omkring 1 Maj.\n\ninfo om le
 jren kommer også senere.\n\nklokslet angivet i start/slut tidspunkt er ku
 n ca tider\, mere præcis tid  \nkommer senere\n\n\n::/ lederne\n\n
URL:https://www.thorningspejderne.dk/begivenhed/sommerlejr-mikro-1rate
DTSTART:20250705T100000Z
DTEND:20250708T100000Z
LOCATION:Kulsø Spejdercenter\, Kulsøvej 19\, 7323 Give
END:VEVENT
BEGIN:VEVENT
UID:gruppeweb.dk:6306:event:244
DTSTAMP:20260425T172041Z
LAST-MODIFIED:20250603T173822Z
SUMMARY:Sommerlejr resten 1.rate
DESCRIPTION:Så er første tilmelding til sommerlejr åbnet\, vi forventer 
 en samlet pris  \npå lejren for mini\, junior\, trop og klanspejdere på 
 ca 1500kr.\n\nDette er første rate\, anden og sidste rate vil komme omkri
 ng 1 Maj.\n\ninfo om lejren kommer også senere.\n\nklokslet angivet i sta
 rt/slut tidspunkt er kun ca tider\, mere præcis tid  \nkommer senere\n\n
URL:https://www.thorningspejderne.dk/begivenhed/sommerlejr-resten-1rate
DTSTART:20250705T100000Z
DTEND:20250712T080000Z
LOCATION:Kulsø Spejdercenter\, Kulsøvej 19\, 7323 Give
END:VEVENT
BEGIN:VEVENT
UID:gruppeweb.dk:6306:event:255
DTSTAMP:20260425T172041Z
LAST-MODIFIED:20250812T072957Z
SUMMARY:Sommerlejr MIKRO 2.rate
DESCRIPTION:Så er første tilmelding til sommerlejr åbnet\, vi forventer 
 en samlet pris  \npå lejren for mikro spejdere på ca 900kr.Dette er før
 ste rate\, anden og  \nsidste rate vil komme omkring 1 Maj.info om lejren 
 kommer også  \nsenere.klokslet angivet i start/slut tidspunkt er kun ca t
 ider\, mere præcis  \ntid kommer senere::/ lederne\n\n
URL:https://www.thorningspejderne.dk/begivenhed/sommerlejr-mikro-2rate
DTSTART:20250705T100000Z
DTEND:20250831T100000Z
LOCATION:Kulsø Spejdercenter\, Kulsøvej 19\, 7323 Give
END:VEVENT
BEGIN:VEVENT
UID:gruppeweb.dk:6306:event:256
DTSTAMP:20260425T172041Z
LAST-MODIFIED:20250630T184015Z
SUMMARY:Sommerlejr MINI\, JUNIOR\, TROP\, KLAN 2. Rate
DESCRIPTION:Kommer senere på Facebook \n\n
URL:https://www.thorningspejderne.dk/begivenhed/sommerlejr-mini-junior-trop
 -klan-2-rate
DTSTART:20250705T120000Z
DTEND:20250712T100000Z
LOCATION:Thorning Gruppe\, Møllevej 36\, Thorning\, 8620 Kjellerup
END:VEVENT
BEGIN:VEVENT
UID:gruppeweb.dk:6306:event:257
DTSTAMP:20260425T172041Z
LAST-MODIFIED:20250811T182021Z
SUMMARY:Oprykning
DESCRIPTION:Så er det tid til oprykning. Vi mødes ved børnehaven kl 10\,
  og går i  \nsamlet flok til kirkeskoven. \n\nVi slutter ved forsamlings
 huset kl 14.\n\nmedbring tøj efter vejret\, spisegrej.\n\n
URL:https://www.thorningspejderne.dk/begivenhed/oprykning
DTSTART:20250823T080000Z
DTEND:20250823T120000Z
LOCATION:Børnehaven\, Peblingestien 2\, 8620 Kjellerup
END:VEVENT
BEGIN:VEVENT
UID:gruppeweb.dk:6306:event:259
DTSTAMP:20260425T172041Z
LAST-MODIFIED:20250817T114350Z
SUMMARY:Sov under åben himmel
DESCRIPTION:Hej..\n\nVi vil prøver at tage mærket sov under åben himmel 
 og samtidigt lærer  \nhinanden at kende efter oprykningen.\n\nBørnene sk
 al have spise hjemmefra når de kommer fredag.\n\nVi mødes på spejdergru
 nden kl. 19:00 fredag d.29/8 og skal hentes samme  \nsted kl. 10:00 sønda
 g.\n\nMedbringes:  SOVEPOSE\, LÆGUNDERLAG\, SPISEGREJ\, VISKESTYKKE\, T
 ØJ FORHOLD  \nTIL VEJRET.\n\n\n
URL:https://www.thorningspejderne.dk/begivenhed/sov-under-aaben-himmel
DTSTART:20250829T170000Z
DTEND:20250831T080000Z
LOCATION:Thorning Gruppe\, Møllevej 36\, Thorning\, 8620 Kjellerup
END:VEVENT
BEGIN:VEVENT
UID:gruppeweb.dk:6306:event:258
DTSTAMP:20260425T172041Z
LAST-MODIFIED:20260214T052717Z
SUMMARY:Bootcamp
DESCRIPTION:Så er det tid til årets bootcamp hvor nye som gamle tropsspej
 dere bliver  \ndelt i patruljer og får skærpet deres spejder færdighede
 r.\n\nNye patrulje -ledere og - assistenter skal findes\, of grundfærdigh
 ederne for  \ndet kommende spejderår genopfriskes. Det bliver en weekend 
 med både fart og  \nfeltet\, fordybelse og store følelser\, der forhåbe
 ntligt vil give os et  \nstærkt fundament for det kommende års spejderli
 v. Pak tasken med  \nalmindeligt tur grej til en nat i shelter\, og mindst
  1 helt sæt skiftetøj!\n\n
URL:https://www.thorningspejderne.dk/begivenhed/bootcamp-0
DTSTART:20250905T170000Z
DTEND:20250907T080000Z
LOCATION:Thorning Gruppe\, Møllevej 36\, Thorning\, 8620 Kjellerup
END:VEVENT
BEGIN:VEVENT
UID:gruppeweb.dk:6306:event:260
DTSTAMP:20260425T172041Z
LAST-MODIFIED:20260214T052712Z
SUMMARY:Patrulje tur
DESCRIPTION:Så er det tid for de nye patrulje ledere og patrulje assistent
 er at udføre  \nderes første selvstændige tur for deres patrulje!\nDe t
 o patruljer kommer til at lave to separate arrangementer\, og der er  \nde
 rfor forskellige informationer til hver.\nDer vil komme mere info på tors
 dag om præcise tidspunkter og steder.\nTurene starter dog tidligst kl 17:
 00\, og er indenfor 20km af thorning.. ca.\n\n
URL:https://www.thorningspejderne.dk/begivenhed/patrulje-tur
DTSTART:20250926T150000Z
DTEND:20250928T080000Z
LOCATION:Thorning Gruppe\, Møllevej 36\, Thorning\, 8620 Kjellerup
END:VEVENT
BEGIN:VEVENT
UID:gruppeweb.dk:6306:event:261
DTSTAMP:20260425T172041Z
LAST-MODIFIED:20251019T093845Z
SUMMARY:Gruppetur efterår 2025
DESCRIPTION:Så er det tid til årets fedeste tur med Thorning spejderne\, 
 denne gang skal  \nvi til Ravnholt hytten. \n\nVi starter fredag kl 18:30
 \, spejderne har spist hjemmefra.\n\nog slutter søndag kl 10:00. \n\nAdr
 essen er:\n\nravnholtvej 3\, 8620 Kjellerup (bag cirkel K syd for Knudstru
 p) stol IKKE på  \ngps’en den vil ikke føre jer på rette vej\, der er
  til gengæld skiltet  \nmod hytten.\n\nMedbring:\n\nTøj og sko til udend
 ørs aktiviteter.   \nSovepose og liggeunderlag samt lagen\, vi sover en
  nat i shelter\, og en nat  \ninde\, det er her der skal bruges lagen. \n
 \nSpisegrej\, da der ikke er nok service i hytten medbringes eget spisegre
 j\,  \nsamt viskestykke.\n\nIndesko\, da der er fodkoldt i hytten.\n\nToil
 etgrej\, hovedpude\, sovebamse\, lommelygte/pandelygte.\n\nBruges der medi
 cin\, afleveres dette til grenleder ved ankomst\, gerne med en  \nskriftli
 g beskrivelse.\n\nEr der nogen allergener mht. mad bedes dette oplyst ved 
 tilmelding \n\n\n
URL:https://www.thorningspejderne.dk/begivenhed/gruppetur-efteraar-2025
DTSTART:20251024T163000Z
DTEND:20251026T090000Z
LOCATION:Ravnholthytten\, Ravnholtvej 3\, 8620 Kjellerup
END:VEVENT
BEGIN:VEVENT
UID:gruppeweb.dk:6306:event:262
DTSTAMP:20260425T172041Z
LAST-MODIFIED:20251210T173209Z
SUMMARY:Polartur Astrid
DESCRIPTION:Blicher Divisionen\nindbyder til\n\nPolartur d. 16. – 18. 
 januar 2026\n\n \n\nEr du en gammel 2. års juniorspejder? (5. klasse)\n\
 nHar du ikke været på Polartur før?\n\nSkal du snart rykke op i troppen
 ?\n\nVil du opleve noget barskt?\n\nVil du opleve noget rart?\n\nHar du mo
 d og benmuskler?\n\nTør du møde divisionens andre 2. års-juniorer?\n\n
  \n\n \n\n… så er det nu\, du har chancen!\n\n \n\nTid:​16. – 1
 8. januar 2026\n\n \n\nStart:​Stoholm Station fredag aften kl. 19:00\n\
 n​\n\nSlut:​Vi sender sms eller mail med afhentningssted efter afgang.
  Tidspunkt  \nfor afhentning er søndag kl. 10:30\n\n \n\nPris:​200 
 kr. der dækker hele turen. Transport til og fra Polartur  \nsørger man 
 selv for.\n\n \n\nProgram:​Vi har aktiviteter i patruljer med spejder
 e fra andre grupper i  \ndivisionen. \n\nDu skal desuden på hike med ryg
 sæk. \n\nTænk på\, at du skal kunne bære alle dine ting i rygsækken.
 \n\nVi slutter af med en lille overraskelse.\n \n\nMedbring:​- Almindel
 igt weekend-udstyr til udendørs overnatning.\n\n​​- Husk liggeunderla
 g\, rygsæk\, varm sovepose\, lagen (vigtigt)\,  \nregntøj\, varmt udetø
 j.\n\n​​- Godt og varmt fodtøj til udendørsbrug\, kompas (hvis du ha
 r et).\n\n​- Lommelygte\, sangbog\, hjemmesko\, spisegrej + viskestykke
  i bestikpose.\n​​- Papir\, blyant samt en drikkedunk.\n\n​​- IN
 GEN snolder eller mobiltelefon!\n \n\n \n\n \n\nVi glæder os til at 
 være sammen med dig.\n\nMvh\, juniorlederne i Steen Blicher Divisionen\n\
 n \n\n \n\nPS: Husk at spise aftensmad hjemmefra om fredagen.\n\n\n
URL:https://www.thorningspejderne.dk/begivenhed/polartur-astrid
DTSTART:20260116T180000Z
DTEND:20260118T093000Z
LOCATION:Stoholm station\, Stationsvej 2A\, 7850 Stoholm
END:VEVENT
BEGIN:VEVENT
UID:gruppeweb.dk:6306:event:263
DTSTAMP:20260425T172041Z
LAST-MODIFIED:20260115T210007Z
SUMMARY:Mini træf
DESCRIPTION:Så er det tid til årets Mini træf i Divisionen. Her skal vil
  være sammen  \nmed alle de andre minier fra Divisionen.\n\n\nOg Årets t
 ema er Rasmus Klump.\n\n
URL:https://www.thorningspejderne.dk/begivenhed/mini-traef-0
DTSTART:20260131T080000Z
DTEND:20260201T090000Z
LOCATION:Kompedal lejren\, Kompedalvej 13
END:VEVENT
BEGIN:VEVENT
UID:gruppeweb.dk:6306:event:266
DTSTAMP:20260425T172041Z
LAST-MODIFIED:20260204T151213Z
SUMMARY:Mikro fællesspisning
DESCRIPTION:Invitation til fællesspisning\n\n\n\n \n\nVi vil gerne invite
 re forældre og\nsøskende\, til at deltage i spejdermødet d. 17/2 kl. 17
 .00-19.00.\n\n\n\nVi skal sammen lave mad over bål og\nhygge os.\n\n\n\nA
 lt i skal medbringe er jeres eget\nservice og godt humør.\n\n\n\nHusk at 
 tilmelde jer i medlemsservice\nsenest d. 15/2\, så vi ved hvor mange i ko
 mmer.\n\n\n\nVi glæder os til at se jer.\n\n\n\n \n\nSpejder hilsner fra
  lederne\n\n\n\n \n\n\n
URL:https://www.thorningspejderne.dk/begivenhed/mikro-faellesspisning
DTSTART:20260217T160000Z
DTEND:20260217T180000Z
LOCATION:Thorning Gruppe\, Møllevej 36\, Thorning\, 8620 Kjellerup
END:VEVENT
BEGIN:VEVENT
UID:gruppeweb.dk:6306:event:267
DTSTAMP:20260425T172041Z
LAST-MODIFIED:20260214T052656Z
SUMMARY:Det kolde gys
DESCRIPTION:Så er det tid til at tage det kolde gys!\nSpejderne har selv v
 æret igang med at planlægge det over 2 gange\, så der  \nkommer nok en 
 række løse ender der lige skal samles.\nMan kan læse mere om mærket he
 r.\nDer er en lille chance for at der kommer en ekstra regning til transpo
 rt\,  \nhvis det ikke lykkes for os at finde nogle frivillige forældre ti
 l at  \nkører.\nMan kan læse mere om mærket her:\nDet kolde gys | Det D
 anske Spejderkorps\n[1]\n\nog eller så spørg jeres spejdere :)\n\n\n[1] 
 https://dds.dk/maerke/det-kolde-gys\n
URL:https://www.thorningspejderne.dk/begivenhed/det-kolde-gys
DTSTART:20260220T170000Z
DTEND:20260222T110000Z
LOCATION:Vadum shelter\, Vadum Strandvej\, 1\, 7860 Spøttrup
END:VEVENT
BEGIN:VEVENT
UID:gruppeweb.dk:6306:event:265
DTSTAMP:20260425T172041Z
LAST-MODIFIED:20260214T052659Z
SUMMARY:Mikro shelter overnatning
DESCRIPTION:Mini shelty\n\n\n\nKære\nmikrospejdere og forældre.\n\n\n\nVi
  starter\nop på mini shelty mærket igen\, første overnatning er d. 21-2
 2/2 26 hvor vi\novernatter i shelter ved spejderhuset.\n\n\n\nMærket\nhed
 der mini shelty\, og går ud på at vi skal sove en gang i shelter i hver\
 nårstid. For at få mærket\, skal man være med til at sove i shelter al
 le  \nfire\ngange.\n\n\n\nDet er\nvigtigt at spejderne har grej med\, til 
 at kunne holde varmen i de kolde\novernatninger. Det kan være en god ide 
 at sende fx varmt tæppe eller en  \nekstra\ndyne med\, der kan bruges sam
 men med soveposen. Det er også en rigtig god ide  \nat\nhave en hue på i
  soveposen\, for at holde på varmen.\n\n\n\nVi mødes ved\nspejderhuset p
 å Møllevej 36\, 8620 Kjellerup lørdag d. 21/2 26 kl. 19.00.  \nHer\nska
 l vi hygge os\, man må medbringe slik for 20 kr. Drikkevarer skal i ikke 
  \ntage\nmed\, det sørger vi  \nfor.                  
                                      
                                      
                                      
                                      
                                      
            \nSøndag d. 22/2 spiser vi morgenmad sammen\, inden
  i skal hentes kl. 9.00.\n\n\n\nVi glæder os\ntil at se jer.\n\n\n\nPrise
 n for turen\ner 50\,00 kr.\, der betales via tilmelding på medlemsservice
 .\n\n\n\n \n\n\nSpejder\nhilsner fra lederne \n\n\n\n
URL:https://www.thorningspejderne.dk/begivenhed/mikro-shelter-overnatning-1
DTSTART:20260221T180000Z
DTEND:20260222T080000Z
LOCATION:Thorning Gruppe\, Møllevej 36\, Thorning\, 8620 Kjellerup
END:VEVENT
BEGIN:VEVENT
UID:gruppeweb.dk:6306:event:268
DTSTAMP:20260425T172041Z
LAST-MODIFIED:20260301T110445Z
SUMMARY:Mikrotræf 2026
DESCRIPTION: \n\nMikrotræf\n\n\n\nSteen Blicher Division\n\n\n\n    
     14/3-15/3 2026\n\n\n\nKompedal lejren\,\nKompedalvej 13\, 7442 Enge
 svang\n\n\n\n \n\nVi mødes lørdag kl.\n9.30 og skal hentes igen søndag
  kl. 9.30\n\n\n\n \n\nVi skal være sammen\nmed de andre mikrospejder fra
  divisionen og lege\, hygge og lave sjove ting.\n\n\n\n \n\nMedbring kop\
 , lagen\,\nsovepose\, toiletgrej\, tøj til at være ude\, evt. hjemmesko.
 \n\n\n\nIngen slik og\nmobiltelefon\n\n\n\nTilmelding senest d. 28. februa
 r\n\n\n\n                                
       \nPris:  175 kr.\n\n\n\n \n\nTilmelding på www.thorningspejde
 rene.dk\n\n\n\n\n \n\n\n\n
URL:https://www.thorningspejderne.dk/begivenhed/mikrotraef-2026
DTSTART:20260314T083000Z
DTEND:20260315T083000Z
LOCATION:Kompedal Lejren\, Kompedalvej 13\, 7442 Engesvang
END:VEVENT
BEGIN:VEVENT
UID:gruppeweb.dk:6306:event:270
DTSTAMP:20260425T172041Z
LAST-MODIFIED:20260413T172358Z
SUMMARY:Sankt Georg dag
DESCRIPTION:Så er det igen tid til at aflægge spejderløftet\, dette gør
  vi torsdag den  \n23-4 kl 17-19. Du må meget gerne medbringe din mor og 
 far\, og søskende.\n\n
URL:https://www.thorningspejderne.dk/begivenhed/sankt-georg-dag
DTSTART:20260423T150000Z
DTEND:20260423T170000Z
LOCATION:Thorning Gruppe\, Møllevej 36\, Thorning\, 8620 Kjellerup
END:VEVENT
BEGIN:VEVENT
UID:gruppeweb.dk:6306:event:269
DTSTAMP:20260425T172041Z
LAST-MODIFIED:20260402T141156Z
SUMMARY:Divisionsturnering 2026
DESCRIPTION:\nInvitation til divisionsturnering 2026 - spejder til alle tid
 er\n\n \n\nKom og oplev fællesskab og venskabelig konkurrence med dine s
 pejdervenner  \nfra divisionen. Årets divisionsturnering tager spejderne 
 med på en  \ntidsrejse - og de ender i vidt forskellige tidsaldre. Mens f
 amiliespejdere og  \nmikroer rejser til stenalderen\, lander troppen i Rom
 erriget og minispejderne  \ni middelalderen. Hvor junior og klan ender\, b
 liver spændende at se. På  \ntværs af tid og sted er der garanti for ud
 fordrende opgaver og nye eventyr.\n\n \n\nTidsrum\n\nTidsrejsen begynder 
 fredag d. 24. april i tidsrummet 18.00-18.30. \n\nDer er ankomst for fami
 liespejderne lørdag kl. 8.30 \n\nVi lander i 2026 igen til afrejse sønd
 ag kl. 12.00. Forældre og andre  \ninteresserede\, er meget velkomne til 
 at overvære præmieoverrækkelsen kl.  \n11.00\n\n \n\nSted:\n\nDivision
 sturneringen foregår på Trevæld Spejdercenter\, Trevældvej 7\,  \n78
 30 Vinderup\n\n \n\nMedbring:\n\nAlmindeligt lejrudstyr til en weekendtur
  med overnatning i telt. Aftener og  \nnætter kan være kolde\, så godt 
 med varmt tøj og en god sovepose\, evt. et  \nekstra tæppe. Husk spisegr
 ej og at få fyldt uniformslommerne med  \nbasisudstyr som skrivegrej\, pa
 pir m.v. \n\n \n\nForplejning:\n\nDer er fuld forplejning hele weekenden
 \, dog forventer vi\, at spejderne har  \nfået et tidligt aftensmåltid h
 jemmefra fredag\, hvor de kun får en  \naftensnack. Lørdag laver spejder
 ne selv middag over bål. \n\n \n\n\n \n\nTilmelding og pris:\n\nSenest
  1 marts\, prisen er 200kr\n\n \n\nSpejderhilsner\n\nDivisionsledelse i S
 teen Blicher Divisionen\n\n
URL:https://www.thorningspejderne.dk/begivenhed/divisionsturnering-2026
DTSTART:20260424T160000Z
DTEND:20260426T100000Z
LOCATION:Trevæld spejdercenter\, Trevældvej 7\, 7830 Vinderup
END:VEVENT
BEGIN:VEVENT
UID:gruppeweb.dk:6306:event:264
DTSTAMP:20260425T172041Z
LAST-MODIFIED:20260301T193932Z
SUMMARY:Spejdernes Lejr
DESCRIPTION:Kære forældre\,\nSå er der tid til sommerlejr\, og i år er 
 det den store fælles lejr\, for  \nalle spejdere i hele verden (dog prim
 ært danmark).\nI kan læse mere her: Deltager | Spejdernes Lejr 2026 [1]
 . \nDer vil komme mere konkret info om hvad vi skal lave specifikt\, når
   \ntilmeldingen til aktiviteter.\nHusk at tilskud gennem broen nu ikke l
 ængere søges af gruppen\, men skal  \ngøres af de individuelle.\n\n\n[1
 ] https://spejderneslejr.dk/deltager/\n
URL:https://www.thorningspejderne.dk/begivenhed/spejdernes-lejr
DTSTART:20260718T084600Z
DTEND:20260726T084600Z
LOCATION:Thorning Gruppe\, Møllevej 36\, Thorning\, 8620 Kjellerup
END:VEVENT
END:VCALENDAR
